BEGIN:VCALENDAR
VERSION:2.0
PRODID:-//Landulph Parish Council//Meeting Calendar//EN
CALSCALE:GREGORIAN
METHOD:PUBLISH
BEGIN:VEVENT
UID:70491-20240520@landulphparishcouncil.gov.uk
DTSTAMP:20260420T084559Z
DTSTART;VALUE=DATE:20240520
DTEND;VALUE=DATE:20240521
SUMMARY:Annual Parish Assembly &#8211\\; 20 May 2024
DESCRIPTION:Annual Parish Meeting\nView details: https://landulphparishcouncil.gov.uk/meetings/annual-parish-meeting-20-may-2024/
URL:https://landulphparishcouncil.gov.uk/meetings/annual-parish-meeting-20-may-2024/
END:VEVENT
END:VCALENDAR
