BEGIN:VCALENDAR
VERSION:2.0
PRODID:-//Landulph Parish Council//Meeting Calendar//EN
CALSCALE:GREGORIAN
METHOD:PUBLISH
BEGIN:VEVENT
UID:70494-20240520@landulphparishcouncil.gov.uk
DTSTAMP:20260423T084722Z
DTSTART;VALUE=DATE:20240520
DTEND;VALUE=DATE:20240521
SUMMARY:Council Meeting &#8211\\; 20 May 2024
DESCRIPTION:Council Meeting\nView details: https://landulphparishcouncil.gov.uk/meetings/full-council-meeting-20-may-2024/
URL:https://landulphparishcouncil.gov.uk/meetings/full-council-meeting-20-may-2024/
END:VEVENT
END:VCALENDAR
