BEGIN:VCALENDAR
VERSION:2.0
PRODID:-//Landulph Parish Council//Meeting Calendar//EN
CALSCALE:GREGORIAN
METHOD:PUBLISH
BEGIN:VEVENT
UID:70506-20240115@landulphparishcouncil.gov.uk
DTSTAMP:20260420T091100Z
DTSTART;VALUE=DATE:20240115
DTEND;VALUE=DATE:20240116
SUMMARY:Council Meeting &#8211\\; 15 January 2024
DESCRIPTION:Council Meeting\nView details: https://landulphparishcouncil.gov.uk/meetings/full-council-meeting-15-january-2024/
URL:https://landulphparishcouncil.gov.uk/meetings/full-council-meeting-15-january-2024/
END:VEVENT
END:VCALENDAR
