BEGIN:VCALENDAR
VERSION:2.0
PRODID:-//Landulph Parish Council//Meeting Calendar//EN
CALSCALE:GREGORIAN
METHOD:PUBLISH
BEGIN:VEVENT
UID:70532-20230515@landulphparishcouncil.gov.uk
DTSTAMP:20260421T081256Z
DTSTART;VALUE=DATE:20230515
DTEND;VALUE=DATE:20230516
SUMMARY:Annual Parish Assembly &#8211\\; 15 May 2023
DESCRIPTION:Annual Parish Meeting\nView details: https://landulphparishcouncil.gov.uk/meetings/annual-parish-meeting-15-may-2023/
URL:https://landulphparishcouncil.gov.uk/meetings/annual-parish-meeting-15-may-2023/
END:VEVENT
END:VCALENDAR
