BEGIN:VCALENDAR
VERSION:2.0
PRODID:-//Landulph Parish Council//Meeting Calendar//EN
CALSCALE:GREGORIAN
METHOD:PUBLISH
BEGIN:VEVENT
UID:70596-20200101@landulphparishcouncil.gov.uk
DTSTAMP:20260420T104357Z
DTSTART;VALUE=DATE:20200101
DTEND;VALUE=DATE:20200102
SUMMARY:Council Meetings &#8211\\; 2020
DESCRIPTION:Council Meeting\nView details: https://landulphparishcouncil.gov.uk/meetings/full-council-meetings-2020/
URL:https://landulphparishcouncil.gov.uk/meetings/full-council-meetings-2020/
END:VEVENT
END:VCALENDAR
