BEGIN:VCALENDAR
VERSION:2.0
PRODID:-//Landulph Parish Council//Meeting Calendar//EN
CALSCALE:GREGORIAN
METHOD:PUBLISH
BEGIN:VEVENT
UID:71219-20230417@landulphparishcouncil.gov.uk
DTSTAMP:20260423T084335Z
DTSTART;VALUE=DATE:20230417
DTEND;VALUE=DATE:20230418
SUMMARY:Council Meeting &#8211\\; 17 April 2023
DESCRIPTION:Council Meeting\nView details: https://landulphparishcouncil.gov.uk/meetings/council-meeting-17-april-2023/
URL:https://landulphparishcouncil.gov.uk/meetings/council-meeting-17-april-2023/
END:VEVENT
END:VCALENDAR
