BEGIN:VCALENDAR
VERSION:2.0
PRODID:-//Landulph Parish Council//Meeting Calendar//EN
CALSCALE:GREGORIAN
METHOD:PUBLISH
BEGIN:VEVENT
UID:71222-20230717@landulphparishcouncil.gov.uk
DTSTAMP:20260421T080709Z
DTSTART;VALUE=DATE:20230717
DTEND;VALUE=DATE:20230718
SUMMARY:Council Meeting &#8211\\; 17 July 2023
DESCRIPTION:Council Meeting\nView details: https://landulphparishcouncil.gov.uk/meetings/council-meeting-17-july-2023/
URL:https://landulphparishcouncil.gov.uk/meetings/council-meeting-17-july-2023/
END:VEVENT
END:VCALENDAR
