BEGIN:VCALENDAR
VERSION:2.0
PRODID:-//Landulph Parish Council//Meeting Calendar//EN
CALSCALE:GREGORIAN
METHOD:PUBLISH
BEGIN:VEVENT
UID:71224-20231016@landulphparishcouncil.gov.uk
DTSTAMP:20260421T081353Z
DTSTART;VALUE=DATE:20231016
DTEND;VALUE=DATE:20231017
SUMMARY:Council Meeting &#8211\\; 16 October 2023
DESCRIPTION:Council Meeting\nView details: https://landulphparishcouncil.gov.uk/meetings/council-meeting-16-october-2023/
URL:https://landulphparishcouncil.gov.uk/meetings/council-meeting-16-october-2023/
END:VEVENT
END:VCALENDAR
