BEGIN:VCALENDAR
VERSION:2.0
PRODID:-//Landulph Parish Council//Meeting Calendar//EN
CALSCALE:GREGORIAN
METHOD:PUBLISH
BEGIN:VEVENT
UID:71225-20231120@landulphparishcouncil.gov.uk
DTSTAMP:20260421T081359Z
DTSTART;VALUE=DATE:20231120
DTEND;VALUE=DATE:20231121
SUMMARY:Council Meeting &#8211\\; 20 November 2023
DESCRIPTION:Council Meeting\nView details: https://landulphparishcouncil.gov.uk/meetings/council-meeting-20-november-2023/
URL:https://landulphparishcouncil.gov.uk/meetings/council-meeting-20-november-2023/
END:VEVENT
END:VCALENDAR
