BEGIN:VCALENDAR
VERSION:2.0
PRODID:-//Landulph Parish Council//Meeting Calendar//EN
CALSCALE:GREGORIAN
METHOD:PUBLISH
BEGIN:VEVENT
UID:71701-20150101@landulphparishcouncil.gov.uk
DTSTAMP:20260420T101444Z
DTSTART;VALUE=DATE:20150101
DTEND;VALUE=DATE:20150102
SUMMARY:Council Meetings 2015
DESCRIPTION:Council Meeting\nView details: https://landulphparishcouncil.gov.uk/meetings/council-meetings-2015/
URL:https://landulphparishcouncil.gov.uk/meetings/council-meetings-2015/
END:VEVENT
END:VCALENDAR
