BEGIN:VCALENDAR
VERSION:2.0
PRODID:-//Landulph Parish Council//Meeting Calendar//EN
CALSCALE:GREGORIAN
METHOD:PUBLISH
BEGIN:VEVENT
UID:71759-20170515@landulphparishcouncil.gov.uk
DTSTAMP:20260420T091309Z
DTSTART;VALUE=DATE:20170515
DTEND;VALUE=DATE:20170516
SUMMARY:Annual Parish Assembly &#8211\\; 15 May 2017
DESCRIPTION:Annual Parish Meeting\nView details: https://landulphparishcouncil.gov.uk/meetings/annual-parish-meeting-15-may-2017/
URL:https://landulphparishcouncil.gov.uk/meetings/annual-parish-meeting-15-may-2017/
END:VEVENT
END:VCALENDAR
