BEGIN:VCALENDAR
VERSION:2.0
PRODID:-//Landulph Parish Council//Meeting Calendar//EN
CALSCALE:GREGORIAN
METHOD:PUBLISH
BEGIN:VEVENT
UID:71760-20160516@landulphparishcouncil.gov.uk
DTSTAMP:20260421T081342Z
DTSTART;VALUE=DATE:20160516
DTEND;VALUE=DATE:20160517
SUMMARY:Annual Parish Assembly &#8211\\; 16 May 2016
DESCRIPTION:Annual Parish Meeting\nView details: https://landulphparishcouncil.gov.uk/meetings/annual-parish-meeting-16-may-2016/
URL:https://landulphparishcouncil.gov.uk/meetings/annual-parish-meeting-16-may-2016/
END:VEVENT
END:VCALENDAR
