BEGIN:VCALENDAR
VERSION:2.0
PRODID:-//Landulph Parish Council//Meeting Calendar//EN
CALSCALE:GREGORIAN
METHOD:PUBLISH
BEGIN:VEVENT
UID:71852-20251117@landulphparishcouncil.gov.uk
DTSTAMP:20260421T080853Z
DTSTART;VALUE=DATE:20251117
DTEND;VALUE=DATE:20251118
SUMMARY:Council Meeting &#8211\\; 17 November 2025
DESCRIPTION:Council Meeting\nView details: https://landulphparishcouncil.gov.uk/meetings/council-meeting-17-november-2025/
URL:https://landulphparishcouncil.gov.uk/meetings/council-meeting-17-november-2025/
END:VEVENT
END:VCALENDAR
