BEGIN:VCALENDAR
VERSION:2.0
PRODID:-//Landulph Parish Council//Meeting Calendar//EN
CALSCALE:GREGORIAN
METHOD:PUBLISH
BEGIN:VEVENT
UID:71853-20251215@landulphparishcouncil.gov.uk
DTSTAMP:20260422T084523Z
DTSTART;VALUE=DATE:20251215
DTEND;VALUE=DATE:20251216
SUMMARY:Council Meeting &#8211\\; 15 December 2025
DESCRIPTION:Council Meeting\nView details: https://landulphparishcouncil.gov.uk/meetings/council-meeting-15-december-2025/
URL:https://landulphparishcouncil.gov.uk/meetings/council-meeting-15-december-2025/
END:VEVENT
END:VCALENDAR
