BEGIN:VCALENDAR
VERSION:2.0
PRODID:-//Landulph Parish Council//Meeting Calendar//EN
CALSCALE:GREGORIAN
METHOD:PUBLISH
BEGIN:VEVENT
UID:72173-20260511@landulphparishcouncil.gov.uk
DTSTAMP:20260423T085617Z
DTSTART;VALUE=DATE:20260511
DTEND;VALUE=DATE:20260512
SUMMARY:Annual Parish Meeting &#8211\\; 11th May 2026
DESCRIPTION:Annual Parish Meeting\nView details: https://landulphparishcouncil.gov.uk/meetings/annual-parish-meeting/
URL:https://landulphparishcouncil.gov.uk/meetings/annual-parish-meeting/
END:VEVENT
END:VCALENDAR
