BEGIN:VCALENDAR
VERSION:2.0
PRODID:-//Landulph Parish Council//Meeting Calendar//EN
CALSCALE:GREGORIAN
METHOD:PUBLISH
BEGIN:VEVENT
UID:72175-20260615@landulphparishcouncil.gov.uk
DTSTAMP:20260420T091150Z
DTSTART;VALUE=DATE:20260615
DTEND;VALUE=DATE:20260616
SUMMARY:Council Meeting &#8211\\; 15th June 2026
DESCRIPTION:Council Meeting\nView details: https://landulphparishcouncil.gov.uk/meetings/parish-council-meeting/
URL:https://landulphparishcouncil.gov.uk/meetings/parish-council-meeting/
END:VEVENT
END:VCALENDAR
