BEGIN:VCALENDAR
VERSION:2.0
PRODID:-//Landulph Parish Council//Meeting Calendar//EN
CALSCALE:GREGORIAN
METHOD:PUBLISH
BEGIN:VEVENT
UID:72177-20260720@landulphparishcouncil.gov.uk
DTSTAMP:20260420T102235Z
DTSTART;VALUE=DATE:20260720
DTEND;VALUE=DATE:20260721
SUMMARY:Council Meeting &#8211\\; 20th July 2026
DESCRIPTION:Council Meeting\nView details: https://landulphparishcouncil.gov.uk/meetings/council-meeting-20th-july-2026/
URL:https://landulphparishcouncil.gov.uk/meetings/council-meeting-20th-july-2026/
END:VEVENT
END:VCALENDAR
