BEGIN:VCALENDAR
VERSION:2.0
PRODID:-//Landulph Parish Council//Meeting Calendar//EN
CALSCALE:GREGORIAN
METHOD:PUBLISH
BEGIN:VEVENT
UID:72179-20261019@landulphparishcouncil.gov.uk
DTSTAMP:20260420T104357Z
DTSTART;VALUE=DATE:20261019
DTEND;VALUE=DATE:20261020
SUMMARY:Council Meeting &#8211\\; 19th October 2026
DESCRIPTION:Council Meeting\nView details: https://landulphparishcouncil.gov.uk/meetings/council-meeting-19th-october-2026/
URL:https://landulphparishcouncil.gov.uk/meetings/council-meeting-19th-october-2026/
END:VEVENT
END:VCALENDAR
