BEGIN:VCALENDAR
VERSION:2.0
PRODID:-//Landulph Parish Council//Meeting Calendar//EN
CALSCALE:GREGORIAN
METHOD:PUBLISH
BEGIN:VEVENT
UID:72181-20261221@landulphparishcouncil.gov.uk
DTSTAMP:20260420T105653Z
DTSTART;VALUE=DATE:20261221
DTEND;VALUE=DATE:20261222
SUMMARY:Council Meeting &#8211\\; 21st December 2026
DESCRIPTION:Council Meeting\nView details: https://landulphparishcouncil.gov.uk/meetings/council-meeting-21st-december-2026/
URL:https://landulphparishcouncil.gov.uk/meetings/council-meeting-21st-december-2026/
END:VEVENT
END:VCALENDAR
